Workbook
Name ILIState: Data!$A$13:$C$27
Name ILIVax: Data!$A$2:$C$4
Name ILIYear: Data!$A$6:$AA$9
Name ReportText: Data!$A$10:$R$11
Name Respondents: Interim!$A$7:$C$16

Sheet Interim
A2: Flutracking Weekly Interim Report
A3: ="Week ending "&TEXT(Data!A11,"dd mmmm yyyy") -> Week ending 03 May 2015
A4: =Data!R11 -> Low levels of influenza-like illness activity
A5: ="This survey was sent on "& TEXT(Data!B11,"dddd, dd mmmm yyyy at hh:mm AM/PM") &" and by "&TEXT(Data!C11,"hh:mm AM/PM, dddd dd mmmm")&" we had received "&Data!D11&" responses ("&Data!E11&" last week) from "&Data!F11&" people responding for themselves and "&Data!G11&" household members across Australia." -> This survey was sent on Monday, 04 May 2015 at 01:13 AM and by 09:00 AM, Thursday 07 May we had received 19920 responses (18600 last week) from 12180 people responding for themselves and 7740 household members across Australia.
A6: Respondent Numbers by Jurisdiction | E6: ="Across Australia, fever and cough was reported by "&TEXT(Data!H11,"0.0")&"% of vaccinated participants and "&TEXT(Data!I11,"0.0")&"% of unvaccinated participants. Fever, cough and absence from normal duties was reported by "&TEXT(Data!J11,"0.0")&"% of vaccinated participants and "&TEXT(Data!K11,"0.0")&"% of unvaccinated participants." -> Across Australia, fever and cough was reported by 1.8% of vaccinated participants and 2.3% of unvaccinated participants. Fever, cough and absence from normal duties was reported by 1.0% of vaccinated participants and 1.4% of unvaccinated participants.
A7: State | B7: Respondents | C7: Percentage
A8: NSW | B8: 6197 | C8: 0.31109438
A9: VIC | B9: 3009 | C9: 0.15105422
A10: QLD | B10: 1917 | C10: 0.09623494
A11: SA | B11: 2951 | C11: 0.14814257 | E11: ="For participants this week, "&Data!L11&"/"&Data!M11&" ("&TEXT(Data!N11,"0.0")&" %) have received the seasonal vaccine so far. Of the "&Data!O11&" participants who identified as working face-to-face with patients, "&Data!P11&" ("&TEXT(Data!Q11,"0.0")&"%) have received the vaccine." -> For participants this week, 6814/19920 (34.2 %) have received the seasonal vaccine so far. Of the 3872 participants who identified as working face-to-face with patients, 1798 (46.4%) have received the vaccine.
A12: WA | B12: 2287 | C12: 0.11480924
A13: TAS | B13: 1997 | C13: 0.100251
A14: NT | B14: 654 | C14: 0.032831325
A15: ACT | B15: 908 | C15: 0.045582329
A16: AUS | B16: 19920 | C16: 1
A17: A system error was detected this week in the recording of vaccination status. The vaccination status for all participants was set to “not vaccinated in 2015” at approximately 7am Monday to correct the error. Participants completing their survey AFTER 7am Monday were able to enter their correct vaccination status. Approximately 1200 participants completed their survey prior to 7am and were not able to update their vaccination status, therefore vaccination coverage calculations this week will be slightly lower than expected. From next week (week ending 10 May) onwards, vaccination data will be accurate. Vaccination data from last week (week ending 26th April 2015) should not be used.
A19: To join the survey or find out more information: | E19: www.flutracking.net
A20: To see latest maps of influenza-like activity: | E20: www.flutracking.net/Info/Maps
A21: View historical archive of weekly reports: | E21: www.flutracking.net/Info/Reports
A22: Contact the Flutracking Team (02) 4924 6477 or: | E22: flutracking@flutracking.net

Sheet Data
A1: Survey Weeks | B1: 42120 | C1: =B1+7 -> 42127 | D1: =C1+7 -> 42134 | E1: =D1+7 -> 42141 | F1: =E1+7 -> 42148 | G1: =F1+7 -> 42155 | H1: =G1+7 -> 42162 | I1: =H1+7 -> 42169 | J1: =I1+7 -> 42176 | ... Z1: =Y1+7 -> 42288
A2: Label | B2: WE2015-04-26 | C2: WE2015-05-03
A3: Unvaccinated | C3: 2.2508775
A4: Vaccinated | C4: 1.8051071
A6: ILI History Australia | B6: 42120 | C6: =B6+7 -> 42127 | D6: =C6+7 -> 42134 | E6: =D6+7 -> 42141 | F6: =E6+7 -> 42148 | G6: =F6+7 -> 42155 | H6: =G6+7 -> 42162 | I6: =H6+7 -> 42169 | J6: =I6+7 -> 42176 | ... Z6: =Y6+7 -> 42288
A7: 2013 | C7: 1.749966 | D7: 2.0247545 | E7: 2.0087844 | F7: 2.4365287 | G7: 2.7030689 | H7: 2.7375201 | I7: 2.4911262 | J7: 2.6410719 | K7: 2.8116335 | L7: 2.6302049 | M7: 2.6614 | N7: 2.2890947 | O7: 2.617801 | P7: 2.9528823 | Q7: 3.0539228 | R7: 3.5428498 | S7: 3.5817447 | T7: 3.2966321 | U7: 2.7466075 | V7: 2.6663215 | W7: 2.3679296 | X7: 2.3183508 | Y7: 2.1364119
A8: 2014 | C8: 2.5337192 | D8: 2.0869284 | E8: 2.5493333 | F8: 2.8773535 | G8: 2.8727698 | H8: 2.6716338 | I8: 2.8330577 | J8: 3.0324025 | K8: 2.9170268 | L8: 3.1073598 | M8: 2.9897295 | N8: 2.868676 | O8: 3.2339783 | P8: 3.6142626 | Q8: 3.8864865 | R8: 4.4336851 | S8: 4.6590474 | T8: 4.0933099 | U8: 3.6063942 | V8: 3.4412172 | W8: 2.6106634 | X8: 2.1618008 | Y8: 1.9289512 | Z8: 1.5949237 | AA8: 1.4481433
A9: 5-year average | C9: 2.2779486 | D9: 2.3703363 | E9: 2.6163034 | F9: 2.9245204 | G9: 3.1791114 | H9: 3.0367835 | I9: 3.0952624 | J9: 3.1004136 | K9: 3.2085149 | L9: 3.2809813 | M9: 3.3916685 | N9: 3.1434518 | O9: 3.1602271 | P9: 3.3088815 | Q9: 3.5805616 | R9: 3.8259874 | S9: 3.7226501 | T9: 3.4914433 | U9: 3.2367184 | V9: 2.890233 | W9: 2.5677417 | X9: 2.3758513 | Y9: 2.1528736 | Z9: 2.0329174 | AA9: 1.9853064
A10: SurveyWeek | B10: SentDateTime | C10: CutDateTime | D10: TotalResponses | E10: RespondentsLastWeek | F10: MasterParticipant | G10: HouseholdMembers | H10: FandCVax | I10: FandCUnVax | J10: FCAVax | K10: FCAUnVax | L10: NumberVax | M10: TotalResponses1 | N10: VaxPct | O10: WWPTotal | P10: WWPVax | Q10: WWPVaxPct | R10: ActivityLevel
A11: 42127 | B11: 42128.051 | C11: 42131.375 | D11: 19920 | E11: 18600 | F11: 12180 | G11: 7740 | H11: 1.8051071 | I11: 2.2508775 | J11: 1.0126211 | K11: 1.3886769 | L11: 6814 | M11: 19920 | N11: 34.206827 | O11: 3872 | P11: 1798 | Q11: 46.43595 | R11: Low levels of influenza-like illness activity
A13: Label | B13: WE2015-04-26 | C13: WE2015-05-03
A14: Fever and Cough | B14: 2.1608251 | C14: 2.0983936
A15: Fever, Cough and Absent | B15: 1.3254305 | C15: 1.2600402
A16: FC (NSW) | B16: 2.2153301 | C16: 2.4043892
A17: FCA (NSW) | B17: 1.1815094 | C17: 1.2586736
A18: FC (VIC) | B18: 1.9693654 | C18: 1.7281489
A19: FCA (VIC) | B19: 1.4066896 | C19: 1.2296444
A20: FC (QLD) | B20: 2.382134 | C20: 1.982264
A21: FCA (QLD) | B21: 1.7369727 | C21: 1.1476265
A22: FC (SA) | B22: 2.0932445 | C22: 1.8298882
A23: FCA (SA) | B23: 1.458928 | C23: 1.2199254
A24: FC (TAS) | B24: 1.7535764 | C24: 1.5523285
A25: FCA (TAS) | B25: 0.64605445 | C25: 1.0515774
... A27: FCA (WA) | B27: 1.535907 | C27: 1.3117621
